BEGIN:VCALENDAR
VERSION:2.0
PRODID:-//Gift of Life Howie&#039;s House - ECPv6.15.18//NONSGML v1.0//EN
CALSCALE:GREGORIAN
METHOD:PUBLISH
X-WR-CALNAME:Gift of Life Howie&#039;s House
X-ORIGINAL-URL:https://giftoflifehowieshouse.org
X-WR-CALDESC:Events for Gift of Life Howie&#039;s House
REFRESH-INTERVAL;VALUE=DURATION:PT1H
X-Robots-Tag:noindex
X-PUBLISHED-TTL:PT1H
BEGIN:VTIMEZONE
TZID:America/New_York
BEGIN:DAYLIGHT
TZOFFSETFROM:-0500
TZOFFSETTO:-0400
TZNAME:EDT
DTSTART:20250309T070000
END:DAYLIGHT
BEGIN:STANDARD
TZOFFSETFROM:-0400
TZOFFSETTO:-0500
TZNAME:EST
DTSTART:20251102T060000
END:STANDARD
BEGIN:DAYLIGHT
TZOFFSETFROM:-0500
TZOFFSETTO:-0400
TZNAME:EDT
DTSTART:20260308T070000
END:DAYLIGHT
BEGIN:STANDARD
TZOFFSETFROM:-0400
TZOFFSETTO:-0500
TZNAME:EST
DTSTART:20261101T060000
END:STANDARD
BEGIN:DAYLIGHT
TZOFFSETFROM:-0500
TZOFFSETTO:-0400
TZNAME:EDT
DTSTART:20270314T070000
END:DAYLIGHT
BEGIN:STANDARD
TZOFFSETFROM:-0400
TZOFFSETTO:-0500
TZNAME:EST
DTSTART:20271107T060000
END:STANDARD
END:VTIMEZONE
BEGIN:VEVENT
DTSTART;TZID=America/New_York:20260419T123000
DTEND;TZID=America/New_York:20260419T133000
DTSTAMP:20260419T175416
CREATED:20251106T215128Z
LAST-MODIFIED:20251114T195840Z
UID:10000888-1776601800-1776605400@giftoflifehowieshouse.org
SUMMARY:BAKING: NCL - Valley Forge
DESCRIPTION:
URL:https://giftoflifehowieshouse.org/event/baking-ncl-valley-forge-14/
CATEGORIES:Home Cook Heroes
END:VEVENT
BEGIN:VEVENT
DTSTART;TZID=America/New_York:20260419T190000
DTEND;TZID=America/New_York:20260419T193000
DTSTAMP:20260419T175416
CREATED:20260330T203442Z
LAST-MODIFIED:20260330T203442Z
UID:10002271-1776625200-1776627000@giftoflifehowieshouse.org
SUMMARY:ACTIVITY: Health/Wellness (Chair yoga with NCNW)
DESCRIPTION:
URL:https://giftoflifehowieshouse.org/event/activity-health-wellness-chair-yoga-with-ncnw/
CATEGORIES:Sean Dukes Activities Program
END:VEVENT
BEGIN:VEVENT
DTSTART;TZID=America/New_York:20260419T190000
DTEND;TZID=America/New_York:20260419T200000
DTSTAMP:20260419T175416
CREATED:20251114T203717Z
LAST-MODIFIED:20251114T203717Z
UID:10001177-1776625200-1776628800@giftoflifehowieshouse.org
SUMMARY:ACTIVITY: Game Night (Group Word Search)
DESCRIPTION:
URL:https://giftoflifehowieshouse.org/event/activity-game-night-group-word-search-24/
CATEGORIES:Sean Dukes Activities Program
END:VEVENT
BEGIN:VEVENT
DTSTART;TZID=America/New_York:20260420T160000
DTEND;TZID=America/New_York:20260420T170000
DTSTAMP:20260419T175416
CREATED:20260204T151359Z
LAST-MODIFIED:20260317T164759Z
UID:10002163-1776700800-1776704400@giftoflifehowieshouse.org
SUMMARY:Transplant Patient Support Group
DESCRIPTION:This virtual support group is facilitated by Caregiver Lifeline Program social workers! This group is for pre and post transplant patients and provides emotional\, psychoeducational and peer support.
URL:https://giftoflifehowieshouse.org/event/transplant-patient-support-group/2026-04-20/
CATEGORIES:Transplant Patients
ORGANIZER;CN="Caregiver Lifeline Program":MAILTO:CaregiverLifeline@GiftofLifeFamilyHouse.org
LOCATION:https://donors1.zoom.us/meeting/register/KskPjrXHTzCokxDFoOdZBg#/registration
END:VEVENT
BEGIN:VEVENT
DTSTART;TZID=America/New_York:20260420T190000
DTEND;TZID=America/New_York:20260420T200000
DTSTAMP:20260419T175416
CREATED:20260327T203528Z
LAST-MODIFIED:20260327T203528Z
UID:10002268-1776711600-1776715200@giftoflifehowieshouse.org
SUMMARY:ACTIVITY: STEM GAME (Trivia Night)
DESCRIPTION:
URL:https://giftoflifehowieshouse.org/event/activity-stem-game-trivia-night/
CATEGORIES:Sean Dukes Activities Program
END:VEVENT
BEGIN:VEVENT
DTSTART;TZID=America/New_York:20260421T180000
DTEND;TZID=America/New_York:20260421T190000
DTSTAMP:20260419T175416
CREATED:20251022T191302Z
LAST-MODIFIED:20260304T213314Z
UID:10001959-1776794400-1776798000@giftoflifehowieshouse.org
SUMMARY:Central PA Transplant Support Group
DESCRIPTION:Connect with others on the transplant journey! Join the Central PA Transplant Support Group to share experiences\, gain support\, and find strength together. Together\, we can navigate the challenges and celebrate the victories of transplant. This virtual support group is for patients and caregivers who live in or were transplanted in the Central Pennsylvania area.
URL:https://giftoflifehowieshouse.org/event/central-pa-transplant-support-group/2026-04-21/
CATEGORIES:Central PA Transplant Support Group,Transplant Patients
ORGANIZER;CN="Caregiver Lifeline Program":MAILTO:CaregiverLifeline@GiftofLifeFamilyHouse.org
LOCATION:https://donors1.zoom.us/meeting/register/q9nWw4rmQGaGiOovUeIEYA#/registration
END:VEVENT
BEGIN:VEVENT
DTSTART;TZID=America/New_York:20260421T180000
DTEND;TZID=America/New_York:20260421T190000
DTSTAMP:20260419T175416
CREATED:20251106T215128Z
LAST-MODIFIED:20251114T195553Z
UID:10000890-1776794400-1776798000@giftoflifehowieshouse.org
SUMMARY:DINNER: St. Augustine Parish
DESCRIPTION:
URL:https://giftoflifehowieshouse.org/event/dinner-st-augustine-parish-7/
CATEGORIES:Home Cook Heroes
END:VEVENT
BEGIN:VEVENT
DTSTART;TZID=America/New_York:20260421T190000
DTEND;TZID=America/New_York:20260421T200000
DTSTAMP:20260419T175416
CREATED:20260115T183500Z
LAST-MODIFIED:20260115T183500Z
UID:10002133-1776798000-1776801600@giftoflifehowieshouse.org
SUMMARY:ACTIVITY: Help Hope Live
DESCRIPTION:
URL:https://giftoflifehowieshouse.org/event/activity-help-hope-live-6/
CATEGORIES:Sean Dukes Activities Program
END:VEVENT
BEGIN:VEVENT
DTSTART;TZID=America/New_York:20260422T190000
DTEND;TZID=America/New_York:20260422T200000
DTSTAMP:20260419T175416
CREATED:20260331T203429Z
LAST-MODIFIED:20260331T203429Z
UID:10002274-1776884400-1776888000@giftoflifehowieshouse.org
SUMMARY:ACTIVITY: Movie Night
DESCRIPTION:
URL:https://giftoflifehowieshouse.org/event/activity-movie-night-20/
CATEGORIES:Sean Dukes Activities Program
END:VEVENT
BEGIN:VEVENT
DTSTART;TZID=America/New_York:20260423T180000
DTEND;TZID=America/New_York:20260423T190000
DTSTAMP:20260419T175416
CREATED:20251106T215128Z
LAST-MODIFIED:20251114T195553Z
UID:10000891-1776967200-1776970800@giftoflifehowieshouse.org
SUMMARY:DINNER: CHOP Respiratory Dept
DESCRIPTION:
URL:https://giftoflifehowieshouse.org/event/dinner-chop-respiratory-dept-4/
CATEGORIES:Home Cook Heroes
END:VEVENT
BEGIN:VEVENT
DTSTART;TZID=America/New_York:20260424T190000
DTEND;TZID=America/New_York:20260424T200000
DTSTAMP:20260419T175416
CREATED:20260327T203528Z
LAST-MODIFIED:20260327T203528Z
UID:10002269-1777057200-1777060800@giftoflifehowieshouse.org
SUMMARY:ACTIVITY: GAME (Bingo Night)
DESCRIPTION:
URL:https://giftoflifehowieshouse.org/event/activity-game-bingo-night-10/
CATEGORIES:Sean Dukes Activities Program
END:VEVENT
BEGIN:VEVENT
DTSTART;TZID=America/New_York:20260425T123000
DTEND;TZID=America/New_York:20260425T133000
DTSTAMP:20260419T175416
CREATED:20251106T215129Z
LAST-MODIFIED:20251114T195840Z
UID:10000892-1777120200-1777123800@giftoflifehowieshouse.org
SUMMARY:BAKING: Beta - Delta Zeta Psi Sorority\, Inc.
DESCRIPTION:
URL:https://giftoflifehowieshouse.org/event/baking-beta-delta-zeta-psi-sorority-inc-7/
CATEGORIES:Home Cook Heroes
END:VEVENT
BEGIN:VEVENT
DTSTART;TZID=America/New_York:20260426T000000
DTEND;TZID=America/New_York:20260426T235959
DTSTAMP:20260419T175416
CREATED:20260318T181657Z
LAST-MODIFIED:20260318T182124Z
UID:10002253-1777161600-1777247999@giftoflifehowieshouse.org
SUMMARY:STUFF the SHUTTLE at this year's Donor Dash
DESCRIPTION:Help celebrate the house’s 15th anniversary by bringing much-needed wish list items to the Dash! \nView our Wish List Here \nThe Donor Dash will feature something for everyone- 10K and 5K runs\, a 3K walk and a Kids Fun Run\, plus live music\, food trucks\, lawn games\, and more! There’s also a virtual option\, so anyone\, anywhere can be part of this special event.
URL:https://giftoflifehowieshouse.org/event/18926/
CATEGORIES:Special Events and Fundraisers
ATTACH;FMTTYPE=image/webp:https://giftoflifehowieshouse.org/wp-content/uploads/2026/03/Stuff-the-Shuttle-Graphic-2026.webp
END:VEVENT
BEGIN:VEVENT
DTSTART;TZID=America/New_York:20260426T080000
DTEND;TZID=America/New_York:20260426T133000
DTSTAMP:20260419T175416
CREATED:20260225T165231Z
LAST-MODIFIED:20260225T165231Z
UID:10002226-1777190400-1777210200@giftoflifehowieshouse.org
SUMMARY:Gift of Life Donor Dash
DESCRIPTION:Join Gift of Life for the 29th Annual Donor Dash on Sunday\, April 26\, 2026 at The Navy Yard in Philadelphia. This is a celebration of the life-saving power of organ donation as we honor the donors who make it possible. There are options for everyone\, from 10K and 5K runs to a 3K walk and a virtual option. Last day to register is April 20.
URL:https://giftoflifehowieshouse.org/event/gift-of-life-donor-dash/
LOCATION:Navy Yard
END:VEVENT
BEGIN:VEVENT
DTSTART;TZID=America/New_York:20260426T190000
DTEND;TZID=America/New_York:20260426T200000
DTSTAMP:20260419T175416
CREATED:20251114T203717Z
LAST-MODIFIED:20251114T203717Z
UID:10001178-1777230000-1777233600@giftoflifehowieshouse.org
SUMMARY:ACTIVITY: Game Night (Group Word Search)
DESCRIPTION:
URL:https://giftoflifehowieshouse.org/event/activity-game-night-group-word-search-25/
CATEGORIES:Sean Dukes Activities Program
END:VEVENT
BEGIN:VEVENT
DTSTART;TZID=America/New_York:20260428T123000
DTEND;TZID=America/New_York:20260428T133000
DTSTAMP:20260419T175416
CREATED:20251106T215129Z
LAST-MODIFIED:20251114T195840Z
UID:10000893-1777379400-1777383000@giftoflifehowieshouse.org
SUMMARY:BAKING: COMHAR
DESCRIPTION:
URL:https://giftoflifehowieshouse.org/event/baking-comhar-13/
CATEGORIES:Home Cook Heroes
END:VEVENT
BEGIN:VEVENT
DTSTART;TZID=America/New_York:20260428T190000
DTEND;TZID=America/New_York:20260428T200000
DTSTAMP:20260419T175416
CREATED:20260327T203529Z
LAST-MODIFIED:20260327T203529Z
UID:10002270-1777402800-1777406400@giftoflifehowieshouse.org
SUMMARY:ACTIVITY: CRAFT (Painting Birdhouses)
DESCRIPTION:
URL:https://giftoflifehowieshouse.org/event/activity-craft-painting-birdhouses/
CATEGORIES:Sean Dukes Activities Program
END:VEVENT
BEGIN:VEVENT
DTSTART;TZID=America/New_York:20260429T180000
DTEND;TZID=America/New_York:20260429T190000
DTSTAMP:20260419T175416
CREATED:20251106T215129Z
LAST-MODIFIED:20251114T195553Z
UID:10000764-1777485600-1777489200@giftoflifehowieshouse.org
SUMMARY:DINNER: Sonesta Philadelphia
DESCRIPTION:
URL:https://giftoflifehowieshouse.org/event/dinner-sonesta-philadelphia-7/
CATEGORIES:Home Cook Heroes
END:VEVENT
BEGIN:VEVENT
DTSTART;TZID=America/New_York:20260430T180000
DTEND;TZID=America/New_York:20260430T190000
DTSTAMP:20260419T175416
CREATED:20251106T215129Z
LAST-MODIFIED:20251114T195553Z
UID:10000766-1777572000-1777575600@giftoflifehowieshouse.org
SUMMARY:DINNER: Hatboro-Horsham HS - NHS
DESCRIPTION:
URL:https://giftoflifehowieshouse.org/event/dinner-hatboro-horsham-hs-nhs-5/
CATEGORIES:Home Cook Heroes
END:VEVENT
BEGIN:VEVENT
DTSTART;TZID=America/New_York:20260430T190000
DTEND;TZID=America/New_York:20260430T200000
DTSTAMP:20260419T175416
CREATED:20260325T202050Z
LAST-MODIFIED:20260325T202050Z
UID:10002264-1777575600-1777579200@giftoflifehowieshouse.org
SUMMARY:ACTIVITY: Donor Remembrance Day
DESCRIPTION:
URL:https://giftoflifehowieshouse.org/event/activity-donor-remembrance-day/
CATEGORIES:Sean Dukes Activities Program
END:VEVENT
END:VCALENDAR